BEGIN:VCALENDAR
VERSION:2.0
PRODID:Spatie calendar-links
BEGIN:VEVENT
UID:c21a97a684e997a340336dcdd9db9fff
SUMMARY:Workshop zondag 12 mei 2024
DTSTAMP:20240512T080000Z
DTSTART:20240512T080000Z
DTEND:20240512T110000Z
LOCATION:38 Scharebrugstraat\, Scharebrugstraat\, West Flanders\, Belgium
END:VEVENT
END:VCALENDAR